BEGIN:VCALENDAR
PRODID:-//eluceo/ical//2.0/EN
VERSION:2.0
CALSCALE:GREGORIAN
BEGIN:VEVENT
UID:event-240
DTSTAMP:20260425T211830Z
SUMMARY:Company Dinner
DESCRIPTION:U-BASE is organizing the seventh edition of the company dinner
 ! During this dinner\, you have the possibility to talk to three different
  companies and enjoy a delicious meal in the meantime! At this year's edit
 ion\, there are seven exciting companies to choose from: Nobleo\, Buro Ha
 ppold\, Witteveen+Bos\, Nebest\, IV-groep\, TNO and ABT. For the registrat
 ion we ask you for your company preferences and will try to keep this in 
 mind when making the schedule. If you are interested in doing an internshi
 p or graduation thesis at a company or want to get to know a company bette
 r\, this is a great event to network! Want to be well prepared for this op
 portunity? Join the company training from Sensor (formerly Sentijn)\, wher
 e they will teach how to approach a company and give several other tips
 ! More details about this training can be found here. You will get a thre
 e-course dinner and drinks\, for a total price of only €15. Limited spot
 s are available! 📅: Thursday 29th February 🕔: 18:30 📍: Korftlaan 
 3 👔: Semi-formal Registration for this event closes at 9AM on the 23rd 
 of February. After you subscribe we expect U to be there\, if anything cha
 nges please contact externalrelations@u-base.org. See U! - Board 9 | U-BAS
 E 🔴✨
DTSTART:20240229T173000Z
DTEND:20240229T210000Z
LOCATION:De Schaapskooi
END:VEVENT
BEGIN:VTIMEZONE
TZID:UTC
BEGIN:STANDARD
DTSTART:20240229T173000
TZNAME:UTC
TZOFFSETTO:+0000
TZOFFSETFROM:+0000
END:STANDARD
END:VTIMEZONE
END:VCALENDAR
