BEGIN:VCALENDAR
PRODID:-//eluceo/ical//2.0/EN
VERSION:2.0
CALSCALE:GREGORIAN
BEGIN:VEVENT
UID:event-282
DTSTAMP:20260423T070344Z
SUMMARY:CCB - Construction Materials
DESCRIPTION:Coffee &amp\; Cake Break Have U heard about the Construction Ma
 terials track? If not\, U will soon! It’s not just about concrete—ther
 e’s so much more! Curious to learn more? The 1st CCB of this academic ye
 ar is the perfect chance to dive into the exciting thesis and research top
 ics within the Construction Materials track. Whether U are interested in 
 ongoing research\, considering this track\, looking for thesis inspiration
 \, or just want to know what it’s all about\, come join us for coffee an
 d cake! ☕🍰 Prof. Oguzhan and his colleagues will be presenting fascin
 ating topics like “Nonlinear Model Order Reduction Techniques in Computa
 tional Mechanics\,” “Bioreceptivity of 3D Printed Concrete\,” and ma
 ny more. Don't miss out on the chance to learn\, chat with experts\, and o
 f course\, enjoy some delicious cake! Make sure to sign up! 📅 Thursday\
 , the 3rd of October ⏰ 12:45 - 13:30 📍 Room 1.96 See U there! -EDUCAT
 ION COMMITTEE
DTSTART:20241003T104500Z
DTEND:20241003T113000Z
END:VEVENT
BEGIN:VTIMEZONE
TZID:UTC
BEGIN:STANDARD
DTSTART:20241003T104500
TZNAME:UTC
TZOFFSETTO:+0000
TZOFFSETFROM:+0000
END:STANDARD
END:VTIMEZONE
END:VCALENDAR
