BEGIN:VCALENDAR
PRODID:-//eluceo/ical//2.0/EN
VERSION:2.0
CALSCALE:GREGORIAN
BEGIN:VEVENT
UID:event-287
DTSTAMP:20260420T201412Z
SUMMARY:LustrUm Boat Tour + Theme Reveal Drinks
DESCRIPTION:Action and LustrUm Event: Boat Tour! The Action and LustrUm com
 mittees teamed up to bring U a Boat Tour through the beautiful city-center
  of Delft!🤩 Drinks and snacks will be provided on the boat and will cos
 t only €3! Afterwards\, U are all invited to join the LustrUm Theme Reve
 al drinks✨\, which are completely free! 🤑 Even if U won't be able to 
 join the boat tour\, we would love to welcome U to this memorable moment! 
 Boat Tour 📅: Thursday\, 10th of October 🕖: 19:00 📍: Koornmarkt 11
 3 💵: €3\,- LustrUm Theme Reveal drinks 📅: Thursday\, 10th of Octob
 er 🕖: 20:00 📍: Boterhuis 💵: Free! So don't wait and sign up now: 
 https://www.u-base.org/events/overview/product/287/288 See U there! - Lust
 rUm + Action | U-BASE 🔴✨
DTSTART:20241010T170000Z
DTEND:20241010T210000Z
END:VEVENT
BEGIN:VTIMEZONE
TZID:UTC
BEGIN:STANDARD
DTSTART:20241010T170000
TZNAME:UTC
TZOFFSETTO:+0000
TZOFFSETFROM:+0000
END:STANDARD
END:VTIMEZONE
END:VCALENDAR
