BEGIN:VCALENDAR
PRODID:-//eluceo/ical//2.0/EN
VERSION:2.0
CALSCALE:GREGORIAN
BEGIN:VEVENT
UID:event-407
DTSTAMP:20260423T211821Z
SUMMARY:Lab Tour
DESCRIPTION:Lab Tour - Stevin Lab and Macro Lab  Are U curious about how c
 utting-edge research is conducted?👀 The Education Committee invites U t
 o a Guided Lab Tour at the Macro lab / Stevin lab! Dr. Florentia Kavoura w
 ill guide this stimulating tour! Don’t miss this valuable opportunity to
  explore the laboratory and learn more about current research🕵️‍♀
 ️ 📅 : Thursday\, March 26th 🕕 : 12:45 - 13:30 📍 : Stevin lab 
 🖊️ Sign up now and secure Ur spot!  ~ Education Committee | U-BASE 
DTSTART:20260326T114500Z
DTEND:20260326T123000Z
LOCATION:Stevin Lab
END:VEVENT
BEGIN:VTIMEZONE
TZID:UTC
BEGIN:STANDARD
DTSTART:20260326T114500
TZNAME:UTC
TZOFFSETTO:+0000
TZOFFSETFROM:+0000
END:STANDARD
END:VTIMEZONE
END:VCALENDAR
