BEGIN:VCALENDAR
PRODID:-//eluceo/ical//2.0/EN
VERSION:2.0
CALSCALE:GREGORIAN
BEGIN:VEVENT
UID:event-409
DTSTAMP:20260423T213834Z
SUMMARY:Committee Thank U dinner
DESCRIPTION:Board 11 invites you to the Committee Thank-U Dinner 🍽️✨
  We honestly couldn’t do what we do without U. All the time\, effort\, a
 nd energy U put into your committees are not unnoticed\, and we really app
 reciate it ❤️. So\, we would love to invite U to a cozy dinner with a 
 3-course meal and drinks!  📅: Friday 27th of March 🕔: 18:30 📍: D
 e Kurk Note: This event is exclusive to committee members\; please sign up
  before the 25th of March! See U there!✨  -Board 11 | U-BASE
DTSTART:20260327T173000Z
DTEND:20260327T210000Z
LOCATION:De Kurk
END:VEVENT
BEGIN:VTIMEZONE
TZID:UTC
BEGIN:STANDARD
DTSTART:20260327T173000
TZNAME:UTC
TZOFFSETTO:+0000
TZOFFSETFROM:+0000
END:STANDARD
END:VTIMEZONE
END:VCALENDAR
