BEGIN:VCALENDAR
PRODID:-//eluceo/ical//2.0/EN
VERSION:2.0
CALSCALE:GREGORIAN
BEGIN:VEVENT
UID:event-411
DTSTAMP:20260423T211803Z
SUMMARY:Lunch Lecture - Antea Group
DESCRIPTION:Lunch Lecture – Antea Group ACTION brings U another Lunch Lec
 ture! 🥪 This time\, it’s presented by Antea Group 🏢 Curious to lea
 rn about the environment and its impact on urban development? Antea Group 
 is an engineering and consultancy firm working on everything from sustaina
 ble cities to smart infrastructure solutions.🏙️ Join us to get a clos
 er look at their work and explore how they shape a future-ready\, sustaina
 ble living environment.🌱🌉 📅 Tuesday\, 31st March 📍 Lecture Hal
 l G 🕔 12:45 – 13:30 Just bring Ur presence and enjoy a FREE LUNCH 
 🥪 Once U’ve signed up\, we expect U to be present. See U there! ~ Act
 ion | U-BASE 🔴
DTSTART:20260331T104500Z
DTEND:20260331T113000Z
LOCATION:CEG Lecture hall G
END:VEVENT
BEGIN:VTIMEZONE
TZID:UTC
BEGIN:STANDARD
DTSTART:20260331T104500
TZNAME:UTC
TZOFFSETTO:+0000
TZOFFSETFROM:+0000
END:STANDARD
END:VTIMEZONE
END:VCALENDAR
