BEGIN:VCALENDAR
PRODID:-//eluceo/ical//2.0/EN
VERSION:2.0
CALSCALE:GREGORIAN
BEGIN:VEVENT
UID:event-412
DTSTAMP:20260422T135338Z
SUMMARY:Nobleo Masterclass
DESCRIPTION:INTEGRALIS Workshop: Serious Gaming 🎮🏗️ Discover projec
 t-based working through INTEGRALIS\, a serious gaming workshop by Nobleo B
 ouw &amp\; Infra. Learn how to deal with changes\, improve collaboration\,
  and explore the fundamentals of integrated design in an interactive and p
 layful way. You’ll experience the design phases of a project in a short 
 time\, reflect on teamwork and decisions\, and gain insight into group dyn
 amics and potential pitfalls. Curious? Join us and learn! 📅 Wednesday\,
  22nd April 2026 🕒 15:00–19:00 🍕 Pizza &amp\; drinks included 📍
  G.H. Betzweg 1\, 3rd Floor\, 3068 AZ Rotterdam ⚠️ Only limited spots 
 available\, so make sure to sign up quickly ! ~ Study Tour Committee ✈
 ️ | U-BASE
DTSTART:20260422T130000Z
DTEND:20260422T150000Z
LOCATION:G.H. Betzweg 1\, 3rd Floor\, 3068 AZ Rotterdam
END:VEVENT
BEGIN:VTIMEZONE
TZID:UTC
BEGIN:STANDARD
DTSTART:20260422T130000
TZNAME:UTC
TZOFFSETTO:+0000
TZOFFSETFROM:+0000
END:STANDARD
END:VTIMEZONE
END:VCALENDAR
