BEGIN:VCALENDAR
PRODID:-//eluceo/ical//2.0/EN
VERSION:2.0
CALSCALE:GREGORIAN
BEGIN:VEVENT
UID:event-415
DTSTAMP:20260420T132046Z
SUMMARY:MMD - April
DESCRIPTION:Monthly Members Drinks (MMD): April 🍻 King’s Day is around
  the corner… but why wait? 👑🧡 Let’s start the celebrations early
  with our MMD! This time\, the Value of Design Committee has planned a fun
  little surprise for all U 👀✨ There is already a pretty obvious hint 
 on the poster… but U will have to come see it yourself 😉 Join us for 
 a gezellige evening with free beer\, good vibes\, and great company! 🍻 
 Feeling hungry? Grab a slice of pizza 🍕 for the perfect combo. 📅 Thu
 rsday\, 23 April 2026 🕔 17:30 📍 PSOR Café\, CEG No alcohol? No worr
 ies\, we have non-alcoholic options too! See U there! 🎉🧡 ~ Board 11 
 | U-BASE 🔴
DTSTART:20260423T153000Z
DTEND:20260423T183000Z
LOCATION:PSOR
END:VEVENT
BEGIN:VTIMEZONE
TZID:UTC
BEGIN:STANDARD
DTSTART:20260423T153000
TZNAME:UTC
TZOFFSETTO:+0000
TZOFFSETFROM:+0000
END:STANDARD
END:VTIMEZONE
END:VCALENDAR
