BEGIN:VCALENDAR
PRODID:-//eluceo/ical//2.0/EN
VERSION:2.0
CALSCALE:GREGORIAN
BEGIN:VEVENT
UID:event-416
DTSTAMP:20260423T141847Z
SUMMARY:Action Event: Boat Tour
DESCRIPTION:Action Event: BOAT TOUR!! 🚤🍹 Hello everyone!! We are glad
  to invite U to our next big event: The amazing BOAT TOUR 🥳 So get read
 y to have an incredible evening on board! 🐟 The event will take place i
 n the beautiful city of Leiden\, and guess what! We can have drinks on boa
 rd!! 🥂 📅: Friday\; 1st May 2026 📍: Bootjes en Broodjes\, Leiden 
 🕔: 18:30 -  20:00 💸: 3 Euros If U've signed up\, we expect U to be 
 present! See U there!  Action | U-BASE 🔴
DTSTART:20260501T163000Z
DTEND:20260501T190000Z
LOCATION:Bootjes en Broodjes\, Leiden
END:VEVENT
BEGIN:VTIMEZONE
TZID:UTC
BEGIN:STANDARD
DTSTART:20260501T163000
TZNAME:UTC
TZOFFSETTO:+0000
TZOFFSETFROM:+0000
END:STANDARD
END:VTIMEZONE
END:VCALENDAR
