BEGIN:VCALENDAR
PRODID:-//eluceo/ical//2.0/EN
VERSION:2.0
CALSCALE:GREGORIAN
BEGIN:VEVENT
UID:event-417
DTSTAMP:20260425T143458Z
SUMMARY:General Members Meeting - II
DESCRIPTION:General Members Meeting (GMM II) Hello Members!  Board 11 invi
 tes U to the second General Members Meeting of this academic year. 🤝 We
  will discuss some financial matters and also give some updates about how 
 our board year is going. Of course\, U can ask all your questions. 🙋
 🏼‍♂️  Dinner and drinks will be provided by us\, so U won't be h
 ungry! 😋🍴 📅: Thursday\, 30th April 2026 🕕: 18:00 - 20:00 📍:
  Lecture Hall G See U there! ~Board 11 | U-BASE 🔴✨
DTSTART:20260430T160000Z
DTEND:20260430T180000Z
LOCATION:CEG Lecture Hall G
END:VEVENT
BEGIN:VTIMEZONE
TZID:UTC
BEGIN:STANDARD
DTSTART:20260430T160000
TZNAME:UTC
TZOFFSETTO:+0000
TZOFFSETFROM:+0000
END:STANDARD
END:VTIMEZONE
END:VCALENDAR
